BEGIN:VCALENDAR
VERSION:2.0
PRODID:-//Healthy Hounslow - ECPv6.15.20//NONSGML v1.0//EN
CALSCALE:GREGORIAN
METHOD:PUBLISH
X-WR-CALNAME:Healthy Hounslow
X-ORIGINAL-URL:https://healthyhounslow.co.uk
X-WR-CALDESC:Events for Healthy Hounslow
REFRESH-INTERVAL;VALUE=DURATION:PT1H
X-Robots-Tag:noindex
X-PUBLISHED-TTL:PT1H
BEGIN:VTIMEZONE
TZID:UTC
BEGIN:STANDARD
TZOFFSETFROM:+0000
TZOFFSETTO:+0000
TZNAME:UTC
DTSTART:20250101T000000
END:STANDARD
END:VTIMEZONE
BEGIN:VEVENT
DTSTART;TZID=UTC:20260325T100000
DTEND;TZID=UTC:20260325T150000
DTSTAMP:20260425T210318
CREATED:20250318T111701Z
LAST-MODIFIED:20260302T105647Z
UID:2410-1774432800-1774450800@healthyhounslow.co.uk
SUMMARY:Ambulance clinic at Hounslow House
DESCRIPTION:
URL:https://healthyhounslow.co.uk/event/ambulance-clinic-at-hanworth-air-park-leisure-centre-14/
LOCATION:Hounslow House\, 7 Bath road\, Hounslow\, TW3 3EB
END:VEVENT
END:VCALENDAR