BEGIN:VCALENDAR
VERSION:2.0
PRODID:-//Healthy Hounslow - ECPv6.15.20//NONSGML v1.0//EN
CALSCALE:GREGORIAN
METHOD:PUBLISH
X-ORIGINAL-URL:https://healthyhounslow.co.uk
X-WR-CALDESC:Events for Healthy Hounslow
REFRESH-INTERVAL;VALUE=DURATION:PT1H
X-Robots-Tag:noindex
X-PUBLISHED-TTL:PT1H
BEGIN:VTIMEZONE
TZID:UTC
BEGIN:STANDARD
TZOFFSETFROM:+0000
TZOFFSETTO:+0000
TZNAME:UTC
DTSTART:20250101T000000
END:STANDARD
END:VTIMEZONE
BEGIN:VEVENT
DTSTART;TZID=UTC:20260418T100000
DTEND;TZID=UTC:20260418T160000
DTSTAMP:20260425T205703
CREATED:20250318T112519Z
LAST-MODIFIED:20260401T135545Z
UID:2415-1776506400-1776528000@healthyhounslow.co.uk
SUMMARY:Ambulance clinic at Lakshmi Narayan Temple
DESCRIPTION:
URL:https://healthyhounslow.co.uk/event/ambulance-clinic-at-alice-way-gurdwara-3/
LOCATION:Lakshmi Narayan Temple\, Hounslow\, TW3 4JG
END:VEVENT
END:VCALENDAR